BEGIN:VCALENDAR
VERSION:2.0
PRODID:-//Nighthawk Lookout – For MCC Students, Staff, and Faculty - ECPv6.15.20//NONSGML v1.0//EN
CALSCALE:GREGORIAN
METHOD:PUBLISH
X-WR-CALNAME:Nighthawk Lookout – For MCC Students, Staff, and Faculty
X-ORIGINAL-URL:https://nighthawks.mccnh.edu
X-WR-CALDESC:Events for Nighthawk Lookout – For MCC Students, Staff, and Faculty
REFRESH-INTERVAL;VALUE=DURATION:PT1H
X-Robots-Tag:noindex
X-PUBLISHED-TTL:PT1H
BEGIN:VTIMEZONE
TZID:America/New_York
BEGIN:DAYLIGHT
TZOFFSETFROM:-0500
TZOFFSETTO:-0400
TZNAME:EDT
DTSTART:20250309T070000
END:DAYLIGHT
BEGIN:STANDARD
TZOFFSETFROM:-0400
TZOFFSETTO:-0500
TZNAME:EST
DTSTART:20251102T060000
END:STANDARD
BEGIN:DAYLIGHT
TZOFFSETFROM:-0500
TZOFFSETTO:-0400
TZNAME:EDT
DTSTART:20260308T070000
END:DAYLIGHT
BEGIN:STANDARD
TZOFFSETFROM:-0400
TZOFFSETTO:-0500
TZNAME:EST
DTSTART:20261101T060000
END:STANDARD
BEGIN:DAYLIGHT
TZOFFSETFROM:-0500
TZOFFSETTO:-0400
TZNAME:EDT
DTSTART:20270314T070000
END:DAYLIGHT
BEGIN:STANDARD
TZOFFSETFROM:-0400
TZOFFSETTO:-0500
TZNAME:EST
DTSTART:20271107T060000
END:STANDARD
END:VTIMEZONE
BEGIN:VEVENT
DTSTART;VALUE=DATE:20260423
DTEND;VALUE=DATE:20260424
DTSTAMP:20260423T082418
CREATED:20250806T113839Z
LAST-MODIFIED:20260422T153535Z
UID:10001206-1776902400-1776988799@nighthawks.mccnh.edu
SUMMARY:Last Day to Withdraw with a “WP” or “WF” Grade from a 16-Week Term Class
DESCRIPTION:
URL:https://nighthawks.mccnh.edu/event/last-day-to-withdraw-with-a-wp-or-wf-grade-from-a-16-week-term-class/
LOCATION:NH
CATEGORIES:Academic Calendar
END:VEVENT
BEGIN:VEVENT
DTSTART;VALUE=DATE:20260428
DTEND;VALUE=DATE:20260429
DTSTAMP:20260423T082418
CREATED:20250806T113839Z
LAST-MODIFIED:20260422T153535Z
UID:10001207-1777334400-1777420799@nighthawks.mccnh.edu
SUMMARY:Last Day to Withdraw with a “WP” or “WF” Grade from a 12-Week Term Class
DESCRIPTION:
URL:https://nighthawks.mccnh.edu/event/last-day-to-withdraw-with-a-wp-or-wf-grade-from-a-12-week-term-class-2/
LOCATION:NH
CATEGORIES:Academic Calendar
END:VEVENT
BEGIN:VEVENT
DTSTART;VALUE=DATE:20260428
DTEND;VALUE=DATE:20260429
DTSTAMP:20260423T082418
CREATED:20250806T113839Z
LAST-MODIFIED:20260422T153535Z
UID:10001208-1777334400-1777420799@nighthawks.mccnh.edu
SUMMARY:Last Day to Withdraw a “WP” or WF” Grade from a Second 8-Week Term Class
DESCRIPTION:
URL:https://nighthawks.mccnh.edu/event/last-day-to-withdraw-a-wp-or-wf-grade-from-a-second-8-week-term-class/
LOCATION:NH
CATEGORIES:Academic Calendar
END:VEVENT
END:VCALENDAR