BEGIN:VCALENDAR
VERSION:2.0
PRODID:-//Nighthawk Lookout – For MCC Students, Staff, and Faculty - ECPv6.15.20//NONSGML v1.0//EN
CALSCALE:GREGORIAN
METHOD:PUBLISH
X-WR-CALNAME:Nighthawk Lookout – For MCC Students, Staff, and Faculty
X-ORIGINAL-URL:https://nighthawks.mccnh.edu
X-WR-CALDESC:Events for Nighthawk Lookout – For MCC Students, Staff, and Faculty
REFRESH-INTERVAL;VALUE=DURATION:PT1H
X-Robots-Tag:noindex
X-PUBLISHED-TTL:PT1H
BEGIN:VTIMEZONE
TZID:America/New_York
BEGIN:DAYLIGHT
TZOFFSETFROM:-0500
TZOFFSETTO:-0400
TZNAME:EDT
DTSTART:20230312T070000
END:DAYLIGHT
BEGIN:STANDARD
TZOFFSETFROM:-0400
TZOFFSETTO:-0500
TZNAME:EST
DTSTART:20231105T060000
END:STANDARD
BEGIN:DAYLIGHT
TZOFFSETFROM:-0500
TZOFFSETTO:-0400
TZNAME:EDT
DTSTART:20240310T070000
END:DAYLIGHT
BEGIN:STANDARD
TZOFFSETFROM:-0400
TZOFFSETTO:-0500
TZNAME:EST
DTSTART:20241103T060000
END:STANDARD
BEGIN:DAYLIGHT
TZOFFSETFROM:-0500
TZOFFSETTO:-0400
TZNAME:EDT
DTSTART:20250309T070000
END:DAYLIGHT
BEGIN:STANDARD
TZOFFSETFROM:-0400
TZOFFSETTO:-0500
TZNAME:EST
DTSTART:20251102T060000
END:STANDARD
END:VTIMEZONE
BEGIN:VEVENT
DTSTART;TZID=America/New_York:20241205T160000
DTEND;TZID=America/New_York:20241205T180000
DTSTAMP:20260424T153105
CREATED:20241007T183720Z
LAST-MODIFIED:20241205T233430Z
UID:10000959-1733414400-1733421600@nighthawks.mccnh.edu
SUMMARY:Health Fitness Professional Information Session
DESCRIPTION:The Health Fitness Professional information session is for anyone interested in learning more about our Health Fitness Professional program. \nThis morning information session will be held in-person on Thursday\, December 5\, from 4-6:00 pm in the MCC Student Center “PIT” (the common area outside of the Student HUB and adjacent to the Multi-Purpose Room). \nTo learn more please go to the Health Fitness Professional program page on our website or contact HFIT Program Coordinator Kelly St. Cyr or HFIT Assistant Program Coordinator Chloe Goyette via email.
URL:https://nighthawks.mccnh.edu/event/health-fitness-professional-information-session-7/
LOCATION:MCC Student Center\, 1066 Front Street\, Manchester\, NH\, 03102\, United States
CATEGORIES:Athletics Calendar,Fitness Center Calendar,General Calendar,Student Calendar
ORGANIZER;CN="Chloe Olson":MAILTO:colson@ccsnh.edu
GEO:43.0190476;-71.4841072
X-APPLE-STRUCTURED-LOCATION;VALUE=URI;X-ADDRESS=MCC Student Center 1066 Front Street Manchester NH 03102 United States;X-APPLE-RADIUS=500;X-TITLE=1066 Front Street:geo:-71.4841072,43.0190476
END:VEVENT
BEGIN:VEVENT
DTSTART;TZID=America/New_York:20241206T180000
DTEND;TZID=America/New_York:20241206T200000
DTSTAMP:20260424T153105
CREATED:20241112T225319Z
LAST-MODIFIED:20241206T230543Z
UID:10000982-1733508000-1733515200@nighthawks.mccnh.edu
SUMMARY:Men’s Basketball Exhibition at Job Corps Manchester
DESCRIPTION:Join us in Manchester at Job Corps for a Men’s Basketball Exhibition event between MCC and Word of Life! This event will be on Friday\, December 6th\, at 6:00pm\, at Job Corps 943 Dunbarton Rd\, Manchester\, NH 03102. No tickets are required. It’s FREE to attend! All attendees must go through security.
URL:https://nighthawks.mccnh.edu/event/mens-basketball-exhibition-at-job-corps-manchester-3/
LOCATION:Job Corps\, Dunbarton Road 943\, Manchester\, NH\, 03102\, United States
CATEGORIES:Athletics Calendar,General Calendar,Student Calendar
ORGANIZER;CN="Tyreke Harris":MAILTO:tharris@ccsnh.edu
GEO:43.0244865;-71.501152
X-APPLE-STRUCTURED-LOCATION;VALUE=URI;X-ADDRESS=Job Corps Dunbarton Road 943 Manchester NH 03102 United States;X-APPLE-RADIUS=500;X-TITLE=Dunbarton Road 943:geo:-71.501152,43.0244865
END:VEVENT
BEGIN:VEVENT
DTSTART;TZID=America/New_York:20241207T120000
DTEND;TZID=America/New_York:20241207T140000
DTSTAMP:20260424T153105
CREATED:20241112T225319Z
LAST-MODIFIED:20241207T235125Z
UID:10000983-1733572800-1733580000@nighthawks.mccnh.edu
SUMMARY:Men’s Basketball Exhibition at Job Corps Manchester
DESCRIPTION:Join us in Manchester at Job Corps for a Men’s Basketball Exhibition event between MCC and Word of Life! This event will be on Saturday\, December 7th\, at Noon\, at Job Corps 943 Dunbarton Rd\, Manchester\, NH 03102. No tickets are required. It’s FREE to attend! All attendees must go through security.
URL:https://nighthawks.mccnh.edu/event/mens-basketball-exhibition-at-job-corps-manchester-4/
LOCATION:Job Corps\, Dunbarton Road 943\, Manchester\, NH\, 03102\, United States
CATEGORIES:Athletics Calendar,General Calendar,Student Calendar
ORGANIZER;CN="Tyreke Harris":MAILTO:tharris@ccsnh.edu
GEO:43.0244865;-71.501152
X-APPLE-STRUCTURED-LOCATION;VALUE=URI;X-ADDRESS=Job Corps Dunbarton Road 943 Manchester NH 03102 United States;X-APPLE-RADIUS=500;X-TITLE=Dunbarton Road 943:geo:-71.501152,43.0244865
END:VEVENT
BEGIN:VEVENT
DTSTART;TZID=America/New_York:20241214T120000
DTEND;TZID=America/New_York:20241214T140000
DTSTAMP:20260424T153105
CREATED:20241112T225320Z
LAST-MODIFIED:20241214T150522Z
UID:10000984-1734177600-1734184800@nighthawks.mccnh.edu
SUMMARY:Men’s Basketball Exhibition at Job Corps Manchester
DESCRIPTION:Join us in Manchester at Job Corps for a Men’s Basketball Exhibition event between MCC and Central Maine! This event will be on Saturday\, December 14th\, at Noon\, at Job Corps 943 Dunbarton Rd\, Manchester\, NH 03102. No tickets are required. It’s FREE to attend! All attendees must go through security.
URL:https://nighthawks.mccnh.edu/event/mens-basketball-exhibition-at-job-corps-manchester-5/
LOCATION:Job Corps\, Dunbarton Road 943\, Manchester\, NH\, 03102\, United States
CATEGORIES:Athletics Calendar,General Calendar,Student Calendar
ORGANIZER;CN="Tyreke Harris":MAILTO:tharris@ccsnh.edu
GEO:43.0244865;-71.501152
X-APPLE-STRUCTURED-LOCATION;VALUE=URI;X-ADDRESS=Job Corps Dunbarton Road 943 Manchester NH 03102 United States;X-APPLE-RADIUS=500;X-TITLE=Dunbarton Road 943:geo:-71.501152,43.0244865
END:VEVENT
BEGIN:VEVENT
DTSTART;TZID=America/New_York:20241215T130000
DTEND;TZID=America/New_York:20241215T160000
DTSTAMP:20260424T153105
CREATED:20241112T225320Z
LAST-MODIFIED:20241215T232458Z
UID:10000985-1734267600-1734278400@nighthawks.mccnh.edu
SUMMARY:Men’s Basketball Exhibition at SNHU
DESCRIPTION:Join us in Manchester at SNHU’s Stan Spirou Field House for a Men’s Basketball Exhibition event between MCC and SNHU! This event will be on Sunday\, December 15th\, at 1:00pm\, at Job Corps 943 Dunbarton Rd\, Manchester\, NH 03102. No tickets are required. It’s FREE to attend!
URL:https://nighthawks.mccnh.edu/event/mens-basketball-exhibition-at-snhu/
LOCATION:Southern New Hampshire University\, North River Road 2500\, Hooksett\, 03106\, United States
CATEGORIES:Athletics Calendar,General Calendar,Student Calendar
ORGANIZER;CN="Tyreke Harris":MAILTO:tharris@ccsnh.edu
GEO:43.0404085;-71.4535465
X-APPLE-STRUCTURED-LOCATION;VALUE=URI;X-ADDRESS=Southern New Hampshire University North River Road 2500 Hooksett 03106 United States;X-APPLE-RADIUS=500;X-TITLE=North River Road 2500:geo:-71.4535465,43.0404085
END:VEVENT
END:VCALENDAR