BEGIN:VCALENDAR
VERSION:2.0
PRODID:-//Nighthawk Lookout – For MCC Students, Staff, and Faculty - ECPv6.15.20//NONSGML v1.0//EN
CALSCALE:GREGORIAN
METHOD:PUBLISH
X-ORIGINAL-URL:https://nighthawks.mccnh.edu
X-WR-CALDESC:Events for Nighthawk Lookout – For MCC Students, Staff, and Faculty
REFRESH-INTERVAL;VALUE=DURATION:PT1H
X-Robots-Tag:noindex
X-PUBLISHED-TTL:PT1H
BEGIN:VTIMEZONE
TZID:America/New_York
BEGIN:DAYLIGHT
TZOFFSETFROM:-0500
TZOFFSETTO:-0400
TZNAME:EDT
DTSTART:20240310T070000
END:DAYLIGHT
BEGIN:STANDARD
TZOFFSETFROM:-0400
TZOFFSETTO:-0500
TZNAME:EST
DTSTART:20241103T060000
END:STANDARD
BEGIN:DAYLIGHT
TZOFFSETFROM:-0500
TZOFFSETTO:-0400
TZNAME:EDT
DTSTART:20250309T070000
END:DAYLIGHT
BEGIN:STANDARD
TZOFFSETFROM:-0400
TZOFFSETTO:-0500
TZNAME:EST
DTSTART:20251102T060000
END:STANDARD
BEGIN:DAYLIGHT
TZOFFSETFROM:-0500
TZOFFSETTO:-0400
TZNAME:EDT
DTSTART:20260308T070000
END:DAYLIGHT
BEGIN:STANDARD
TZOFFSETFROM:-0400
TZOFFSETTO:-0500
TZNAME:EST
DTSTART:20261101T060000
END:STANDARD
END:VTIMEZONE
BEGIN:VEVENT
DTSTART;TZID=America/New_York:20250106T160000
DTEND;TZID=America/New_York:20250106T200000
DTSTAMP:20260422T071612
CREATED:20250106T232000Z
LAST-MODIFIED:20250106T232000Z
UID:10000999-1736179200-1736193600@nighthawks.mccnh.edu
SUMMARY:Pickleball – not open to the general public
DESCRIPTION:
URL:https://nighthawks.mccnh.edu/event/pickleball-not-open-to-the-general-public/
LOCATION:Manchester Community College MPR\, Manchester Community College\, 1066 Front Street\, Manchester\, NH\, 03102\, United States
CATEGORIES:Athletics Calendar
GEO:43.0189086;-71.4838349
X-APPLE-STRUCTURED-LOCATION;VALUE=URI;X-ADDRESS=Manchester Community College MPR Manchester Community College 1066 Front Street Manchester NH 03102 United States;X-APPLE-RADIUS=500;X-TITLE=Manchester Community College\, 1066 Front Street:geo:-71.4838349,43.0189086
END:VEVENT
BEGIN:VEVENT
DTSTART;TZID=America/New_York:20250113T160000
DTEND;TZID=America/New_York:20250113T200000
DTSTAMP:20260422T071612
CREATED:20250106T232000Z
LAST-MODIFIED:20250113T232429Z
UID:10001000-1736784000-1736798400@nighthawks.mccnh.edu
SUMMARY:Pickleball – not open to the general public
DESCRIPTION:
URL:https://nighthawks.mccnh.edu/event/pickleball-not-open-to-the-general-public-2/
LOCATION:Manchester Community College MPR\, Manchester Community College\, 1066 Front Street\, Manchester\, NH\, 03102\, United States
CATEGORIES:Athletics Calendar
GEO:43.0189086;-71.4838349
X-APPLE-STRUCTURED-LOCATION;VALUE=URI;X-ADDRESS=Manchester Community College MPR Manchester Community College 1066 Front Street Manchester NH 03102 United States;X-APPLE-RADIUS=500;X-TITLE=Manchester Community College\, 1066 Front Street:geo:-71.4838349,43.0189086
END:VEVENT
BEGIN:VEVENT
DTSTART;TZID=America/New_York:20250127T160000
DTEND;TZID=America/New_York:20250127T200000
DTSTAMP:20260422T071612
CREATED:20250106T232001Z
LAST-MODIFIED:20250127T143628Z
UID:10001001-1737993600-1738008000@nighthawks.mccnh.edu
SUMMARY:Pickleball – not open to the general public
DESCRIPTION:
URL:https://nighthawks.mccnh.edu/event/pickleball-not-open-to-the-general-public-3/
LOCATION:Manchester Community College MPR\, Manchester Community College\, 1066 Front Street\, Manchester\, NH\, 03102\, United States
CATEGORIES:Athletics Calendar
GEO:43.0189086;-71.4838349
X-APPLE-STRUCTURED-LOCATION;VALUE=URI;X-ADDRESS=Manchester Community College MPR Manchester Community College 1066 Front Street Manchester NH 03102 United States;X-APPLE-RADIUS=500;X-TITLE=Manchester Community College\, 1066 Front Street:geo:-71.4838349,43.0189086
END:VEVENT
BEGIN:VEVENT
DTSTART;TZID=America/New_York:20250128T083000
DTEND;TZID=America/New_York:20250128T100000
DTSTAMP:20260422T071612
CREATED:20241212T173333Z
LAST-MODIFIED:20250128T233621Z
UID:10000990-1738053000-1738058400@nighthawks.mccnh.edu
SUMMARY:Health Fitness Professional Information Session
DESCRIPTION:The Health Fitness Professional information session is for anyone interested in learning more about our Health Fitness Professional program. \nThis morning information session will be held in-person on Tuesday\, January 28\, from 8:30-10 am in the MCC Student Center “PIT” (the common area outside of the Student HUB and adjacent to the Multi-Purpose Room). \nTo learn more please go to the Health Fitness Professional program page on our website or contact HFIT Assistant Program Coordinator Chloe Goyette at cgoyette@ccsnh.edu.
URL:https://nighthawks.mccnh.edu/event/health-fitness-professional-information-session-8/
LOCATION:MCC Student Center\, 1066 Front Street\, Manchester\, NH\, 03102\, United States
CATEGORIES:Athletics Calendar,Fitness Center Calendar,General Calendar,Student Calendar
ORGANIZER;CN="Chloe Goyette":MAILTO:cgoyette@ccsnh.edu
GEO:43.0190476;-71.4841072
X-APPLE-STRUCTURED-LOCATION;VALUE=URI;X-ADDRESS=MCC Student Center 1066 Front Street Manchester NH 03102 United States;X-APPLE-RADIUS=500;X-TITLE=1066 Front Street:geo:-71.4841072,43.0190476
END:VEVENT
END:VCALENDAR