BEGIN:VCALENDAR
VERSION:2.0
PRODID:-//Nighthawk Lookout – For MCC Students, Staff, and Faculty - ECPv6.15.20//NONSGML v1.0//EN
CALSCALE:GREGORIAN
METHOD:PUBLISH
X-ORIGINAL-URL:https://nighthawks.mccnh.edu
X-WR-CALDESC:Events for Nighthawk Lookout – For MCC Students, Staff, and Faculty
REFRESH-INTERVAL;VALUE=DURATION:PT1H
X-Robots-Tag:noindex
X-PUBLISHED-TTL:PT1H
BEGIN:VTIMEZONE
TZID:America/New_York
BEGIN:DAYLIGHT
TZOFFSETFROM:-0500
TZOFFSETTO:-0400
TZNAME:EDT
DTSTART:20240310T070000
END:DAYLIGHT
BEGIN:STANDARD
TZOFFSETFROM:-0400
TZOFFSETTO:-0500
TZNAME:EST
DTSTART:20241103T060000
END:STANDARD
BEGIN:DAYLIGHT
TZOFFSETFROM:-0500
TZOFFSETTO:-0400
TZNAME:EDT
DTSTART:20250309T070000
END:DAYLIGHT
BEGIN:STANDARD
TZOFFSETFROM:-0400
TZOFFSETTO:-0500
TZNAME:EST
DTSTART:20251102T060000
END:STANDARD
BEGIN:DAYLIGHT
TZOFFSETFROM:-0500
TZOFFSETTO:-0400
TZNAME:EDT
DTSTART:20260308T070000
END:DAYLIGHT
BEGIN:STANDARD
TZOFFSETFROM:-0400
TZOFFSETTO:-0500
TZNAME:EST
DTSTART:20261101T060000
END:STANDARD
END:VTIMEZONE
BEGIN:VEVENT
DTSTART;TZID=America/New_York:20250717T160000
DTEND;TZID=America/New_York:20250717T180000
DTSTAMP:20260424T061150
CREATED:20241212T174839Z
LAST-MODIFIED:20250719T015346Z
UID:10000995-1752768000-1752775200@nighthawks.mccnh.edu
SUMMARY:CANCELLED: Health and Exercise Science Information Session
DESCRIPTION:The info session in-person on Thursday\, July 17\, from 4-6 pm in the MCC Student Center  has been CANCELLED. \nJoin us for the next info session for Health and Exercise Science on September 9th 8:30-10am. \nTo learn more please go to the Health and Exercise Science program page on our website or contact the Assistant Program Coordinator Chloe Goyette at cgoyette@ccsnh.edu.
URL:https://nighthawks.mccnh.edu/event/health-fitness-professional-information-session-13/
LOCATION:MCC Student Center\, 1066 Front Street\, Manchester\, NH\, 03102\, United States
CATEGORIES:Athletics Calendar,Fitness Center Calendar,General Calendar,Student Calendar
ORGANIZER;CN="Chloe Goyette":MAILTO:cgoyette@ccsnh.edu
GEO:43.0190476;-71.4841072
X-APPLE-STRUCTURED-LOCATION;VALUE=URI;X-ADDRESS=MCC Student Center 1066 Front Street Manchester NH 03102 United States;X-APPLE-RADIUS=500;X-TITLE=1066 Front Street:geo:-71.4841072,43.0190476
END:VEVENT
END:VCALENDAR