BEGIN:VCALENDAR
VERSION:2.0
PRODID:-//Nighthawk Lookout – For MCC Students, Staff, and Faculty - ECPv6.15.20//NONSGML v1.0//EN
CALSCALE:GREGORIAN
METHOD:PUBLISH
X-WR-CALNAME:Nighthawk Lookout – For MCC Students, Staff, and Faculty
X-ORIGINAL-URL:https://nighthawks.mccnh.edu
X-WR-CALDESC:Events for Nighthawk Lookout – For MCC Students, Staff, and Faculty
REFRESH-INTERVAL;VALUE=DURATION:PT1H
X-Robots-Tag:noindex
X-PUBLISHED-TTL:PT1H
BEGIN:VTIMEZONE
TZID:America/New_York
BEGIN:DAYLIGHT
TZOFFSETFROM:-0500
TZOFFSETTO:-0400
TZNAME:EDT
DTSTART:20240310T070000
END:DAYLIGHT
BEGIN:STANDARD
TZOFFSETFROM:-0400
TZOFFSETTO:-0500
TZNAME:EST
DTSTART:20241103T060000
END:STANDARD
BEGIN:DAYLIGHT
TZOFFSETFROM:-0500
TZOFFSETTO:-0400
TZNAME:EDT
DTSTART:20250309T070000
END:DAYLIGHT
BEGIN:STANDARD
TZOFFSETFROM:-0400
TZOFFSETTO:-0500
TZNAME:EST
DTSTART:20251102T060000
END:STANDARD
BEGIN:DAYLIGHT
TZOFFSETFROM:-0500
TZOFFSETTO:-0400
TZNAME:EDT
DTSTART:20260308T070000
END:DAYLIGHT
BEGIN:STANDARD
TZOFFSETFROM:-0400
TZOFFSETTO:-0500
TZNAME:EST
DTSTART:20261101T060000
END:STANDARD
END:VTIMEZONE
BEGIN:VEVENT
DTSTART;TZID=America/New_York:20251113T120000
DTEND;TZID=America/New_York:20251113T140000
DTSTAMP:20260421T140146
CREATED:20251002T202141Z
LAST-MODIFIED:20251113T234837Z
UID:10001298-1763035200-1763042400@nighthawks.mccnh.edu
SUMMARY:Pick-Up Volleyball
DESCRIPTION:Join Us for Indoor Volleyball Fun\nEveryone is welcome to play and enjoy some friendly competition!\nThursdays noon-2pm (October 16th – December 4th) in the MPR. \nInterested in playing? Contact jaube@ccsnh.edu
URL:https://nighthawks.mccnh.edu/event/pick-up-volleyball-7/
LOCATION:Manchester Community College MPR\, Manchester Community College\, 1066 Front Street\, Manchester\, NH\, 03102\, United States
CATEGORIES:Athletics Calendar,Fitness Center Calendar,Student Calendar
ORGANIZER;CN="Jen Aube":MAILTO:jaube@ccsnh.edu
GEO:43.0189086;-71.4838349
X-APPLE-STRUCTURED-LOCATION;VALUE=URI;X-ADDRESS=Manchester Community College MPR Manchester Community College 1066 Front Street Manchester NH 03102 United States;X-APPLE-RADIUS=500;X-TITLE=Manchester Community College\, 1066 Front Street:geo:-71.4838349,43.0189086
END:VEVENT
BEGIN:VEVENT
DTSTART;TZID=America/New_York:20251118T083000
DTEND;TZID=America/New_York:20251118T100000
DTSTAMP:20260421T140146
CREATED:20250506T204807Z
LAST-MODIFIED:20251110T165059Z
UID:10001107-1763454600-1763460000@nighthawks.mccnh.edu
SUMMARY:Health and Exercise Science Information Session
DESCRIPTION:Join the Health & Exercise Science Program in the Student Center to learn more about our 2-year Associates Degree Program and our Personal Training Certificate Program! \nTo learn more please go to the Health and Exercise Science program page on our website or contact Chloe Goyette (cgoyette@ccsnh.edu) – Assistant Program Coordinator
URL:https://nighthawks.mccnh.edu/event/health-exercise-science-information-session-5/
LOCATION:MCC Student Center\, 1066 Front Street\, Manchester\, NH\, 03102\, United States
CATEGORIES:Athletics Calendar,Fitness Center Calendar,General Calendar,Student Calendar
ORGANIZER;CN="Chloe Goyette":MAILTO:cgoyette@ccsnh.edu
GEO:43.0190476;-71.4841072
X-APPLE-STRUCTURED-LOCATION;VALUE=URI;X-ADDRESS=MCC Student Center 1066 Front Street Manchester NH 03102 United States;X-APPLE-RADIUS=500;X-TITLE=1066 Front Street:geo:-71.4841072,43.0190476
END:VEVENT
BEGIN:VEVENT
DTSTART;TZID=America/New_York:20251120T120000
DTEND;TZID=America/New_York:20251120T140000
DTSTAMP:20260421T140146
CREATED:20251002T202143Z
LAST-MODIFIED:20251120T230420Z
UID:10001299-1763640000-1763647200@nighthawks.mccnh.edu
SUMMARY:Pick-Up Volleyball
DESCRIPTION:Join Us for Indoor Volleyball Fun\nEveryone is welcome to play and enjoy some friendly competition!\nThursdays noon-2pm (October 16th – December 4th) in the MPR. \nInterested in playing? Contact jaube@ccsnh.edu
URL:https://nighthawks.mccnh.edu/event/pick-up-volleyball-8/
LOCATION:Manchester Community College MPR\, Manchester Community College\, 1066 Front Street\, Manchester\, NH\, 03102\, United States
CATEGORIES:Athletics Calendar,Fitness Center Calendar,Student Calendar
ORGANIZER;CN="Jen Aube":MAILTO:jaube@ccsnh.edu
GEO:43.0189086;-71.4838349
X-APPLE-STRUCTURED-LOCATION;VALUE=URI;X-ADDRESS=Manchester Community College MPR Manchester Community College 1066 Front Street Manchester NH 03102 United States;X-APPLE-RADIUS=500;X-TITLE=Manchester Community College\, 1066 Front Street:geo:-71.4838349,43.0189086
END:VEVENT
BEGIN:VEVENT
DTSTART;TZID=America/New_York:20251127T120000
DTEND;TZID=America/New_York:20251127T140000
DTSTAMP:20260421T140146
CREATED:20251002T202144Z
LAST-MODIFIED:20251127T233538Z
UID:10001300-1764244800-1764252000@nighthawks.mccnh.edu
SUMMARY:Pick-Up Volleyball
DESCRIPTION:Join Us for Indoor Volleyball Fun\nEveryone is welcome to play and enjoy some friendly competition!\nThursdays noon-2pm (October 16th – December 4th) in the MPR. \nInterested in playing? Contact jaube@ccsnh.edu
URL:https://nighthawks.mccnh.edu/event/pick-up-volleyball-9/
LOCATION:Manchester Community College MPR\, Manchester Community College\, 1066 Front Street\, Manchester\, NH\, 03102\, United States
CATEGORIES:Athletics Calendar,Fitness Center Calendar,Student Calendar
ORGANIZER;CN="Jen Aube":MAILTO:jaube@ccsnh.edu
GEO:43.0189086;-71.4838349
X-APPLE-STRUCTURED-LOCATION;VALUE=URI;X-ADDRESS=Manchester Community College MPR Manchester Community College 1066 Front Street Manchester NH 03102 United States;X-APPLE-RADIUS=500;X-TITLE=Manchester Community College\, 1066 Front Street:geo:-71.4838349,43.0189086
END:VEVENT
END:VCALENDAR