BEGIN:VCALENDAR
VERSION:2.0
PRODID:-//Nighthawk Lookout – For MCC Students, Staff, and Faculty - ECPv6.15.20//NONSGML v1.0//EN
CALSCALE:GREGORIAN
METHOD:PUBLISH
X-ORIGINAL-URL:https://nighthawks.mccnh.edu
X-WR-CALDESC:Events for Nighthawk Lookout – For MCC Students, Staff, and Faculty
REFRESH-INTERVAL;VALUE=DURATION:PT1H
X-Robots-Tag:noindex
X-PUBLISHED-TTL:PT1H
BEGIN:VTIMEZONE
TZID:America/New_York
BEGIN:DAYLIGHT
TZOFFSETFROM:-0500
TZOFFSETTO:-0400
TZNAME:EDT
DTSTART:20250309T070000
END:DAYLIGHT
BEGIN:STANDARD
TZOFFSETFROM:-0400
TZOFFSETTO:-0500
TZNAME:EST
DTSTART:20251102T060000
END:STANDARD
BEGIN:DAYLIGHT
TZOFFSETFROM:-0500
TZOFFSETTO:-0400
TZNAME:EDT
DTSTART:20260308T070000
END:DAYLIGHT
BEGIN:STANDARD
TZOFFSETFROM:-0400
TZOFFSETTO:-0500
TZNAME:EST
DTSTART:20261101T060000
END:STANDARD
BEGIN:DAYLIGHT
TZOFFSETFROM:-0500
TZOFFSETTO:-0400
TZNAME:EDT
DTSTART:20270314T070000
END:DAYLIGHT
BEGIN:STANDARD
TZOFFSETFROM:-0400
TZOFFSETTO:-0500
TZNAME:EST
DTSTART:20271107T060000
END:STANDARD
END:VTIMEZONE
BEGIN:VEVENT
DTSTART;VALUE=DATE:20260105
DTEND;VALUE=DATE:20260106
DTSTAMP:20260423T174853
CREATED:20250407T161801Z
LAST-MODIFIED:20260105T232109Z
UID:10001073-1767571200-1767657599@nighthawks.mccnh.edu
SUMMARY:180 Day Staff Return for Spring Semester
DESCRIPTION:
URL:https://nighthawks.mccnh.edu/event/180-day-staff-return-for-spring-semester/
LOCATION:NH
CATEGORIES:Faculty/Staff Calendar
END:VEVENT
BEGIN:VEVENT
DTSTART;VALUE=DATE:20260108
DTEND;VALUE=DATE:20260109
DTSTAMP:20260423T174853
CREATED:20250407T161801Z
LAST-MODIFIED:20260108T230728Z
UID:10001074-1767830400-1767916799@nighthawks.mccnh.edu
SUMMARY:10 Month and 11 Month Faculty Return for Spring Semester
DESCRIPTION:
URL:https://nighthawks.mccnh.edu/event/10-month-and-11-month-faculty-return-for-spring-semester/
LOCATION:NH
CATEGORIES:Faculty/Staff Calendar
END:VEVENT
BEGIN:VEVENT
DTSTART;VALUE=DATE:20260113
DTEND;VALUE=DATE:20260114
DTSTAMP:20260423T174853
CREATED:20250407T161756Z
LAST-MODIFIED:20260113T232048Z
UID:10001066-1768262400-1768348799@nighthawks.mccnh.edu
SUMMARY:Winter Convening
DESCRIPTION:
URL:https://nighthawks.mccnh.edu/event/winter-convening/
LOCATION:NH
CATEGORIES:Faculty/Staff Calendar
END:VEVENT
END:VCALENDAR