BEGIN:VCALENDAR
VERSION:2.0
PRODID:-//Nighthawk Lookout – For MCC Students, Staff, and Faculty - ECPv6.15.20//NONSGML v1.0//EN
CALSCALE:GREGORIAN
METHOD:PUBLISH
X-ORIGINAL-URL:https://nighthawks.mccnh.edu
X-WR-CALDESC:Events for Nighthawk Lookout – For MCC Students, Staff, and Faculty
REFRESH-INTERVAL;VALUE=DURATION:PT1H
X-Robots-Tag:noindex
X-PUBLISHED-TTL:PT1H
BEGIN:VTIMEZONE
TZID:America/New_York
BEGIN:DAYLIGHT
TZOFFSETFROM:-0500
TZOFFSETTO:-0400
TZNAME:EDT
DTSTART:20250309T070000
END:DAYLIGHT
BEGIN:STANDARD
TZOFFSETFROM:-0400
TZOFFSETTO:-0500
TZNAME:EST
DTSTART:20251102T060000
END:STANDARD
BEGIN:DAYLIGHT
TZOFFSETFROM:-0500
TZOFFSETTO:-0400
TZNAME:EDT
DTSTART:20260308T070000
END:DAYLIGHT
BEGIN:STANDARD
TZOFFSETFROM:-0400
TZOFFSETTO:-0500
TZNAME:EST
DTSTART:20261101T060000
END:STANDARD
BEGIN:DAYLIGHT
TZOFFSETFROM:-0500
TZOFFSETTO:-0400
TZNAME:EDT
DTSTART:20270314T070000
END:DAYLIGHT
BEGIN:STANDARD
TZOFFSETFROM:-0400
TZOFFSETTO:-0500
TZNAME:EST
DTSTART:20271107T060000
END:STANDARD
END:VTIMEZONE
BEGIN:VEVENT
DTSTART;TZID=America/New_York:20260425T093000
DTEND;TZID=America/New_York:20260425T120000
DTSTAMP:20260423T125143
CREATED:20260126T172206Z
LAST-MODIFIED:20260423T164803Z
UID:10001385-1777109400-1777118400@nighthawks.mccnh.edu
SUMMARY:MCC/SHP Build A Bed Day
DESCRIPTION:Join the MCC community for a hands-on volunteer Build Day with Sleep in Heavenly Peace. Help build bed components for local children who do not have beds of their own. Volunteers will work together to cut\, sand\, drill\, assemble\, stain\, and brand lumber to create bed frames that will later be delivered with new mattresses and bedding. This outdoor\, active event is a rewarding way to give back\, connect with others\, and make a meaningful impact in the community. \n\nNo experience needed.\n\nDate & Time: Saturday\, April 25\, 9:30am-12pm\nLocation: On MCC campus\, outdoors\n\nBuild Day is sponsored by the MCC Student Leadership Board and various corporate event sponsors.\n\nSign up: https://x.gldn.io/e/XUWzYk6JC0b
URL:https://nighthawks.mccnh.edu/event/mcc-shp-build-a-bed-day-2/
LOCATION:Manchester Community College\, 1066 Front Street\, Manchester\, 03102\, United States
CATEGORIES:Faculty/Staff Calendar,General Calendar,Student Calendar
ORGANIZER;CN="Aileen Clay":MAILTO:aclay@ccsnh.edu
GEO:43.0190476;-71.4841072
X-APPLE-STRUCTURED-LOCATION;VALUE=URI;X-ADDRESS=Manchester Community College 1066 Front Street Manchester 03102 United States;X-APPLE-RADIUS=500;X-TITLE=1066 Front Street:geo:-71.4841072,43.0190476
END:VEVENT
END:VCALENDAR