BEGIN:VCALENDAR
VERSION:2.0
PRODID:-//Nighthawk Lookout – For MCC Students, Staff, and Faculty - ECPv6.15.20//NONSGML v1.0//EN
CALSCALE:GREGORIAN
METHOD:PUBLISH
X-ORIGINAL-URL:https://nighthawks.mccnh.edu
X-WR-CALDESC:Events for Nighthawk Lookout – For MCC Students, Staff, and Faculty
REFRESH-INTERVAL;VALUE=DURATION:PT1H
X-Robots-Tag:noindex
X-PUBLISHED-TTL:PT1H
BEGIN:VTIMEZONE
TZID:America/New_York
BEGIN:DAYLIGHT
TZOFFSETFROM:-0500
TZOFFSETTO:-0400
TZNAME:EDT
DTSTART:20250309T070000
END:DAYLIGHT
BEGIN:STANDARD
TZOFFSETFROM:-0400
TZOFFSETTO:-0500
TZNAME:EST
DTSTART:20251102T060000
END:STANDARD
BEGIN:DAYLIGHT
TZOFFSETFROM:-0500
TZOFFSETTO:-0400
TZNAME:EDT
DTSTART:20260308T070000
END:DAYLIGHT
BEGIN:STANDARD
TZOFFSETFROM:-0400
TZOFFSETTO:-0500
TZNAME:EST
DTSTART:20261101T060000
END:STANDARD
BEGIN:DAYLIGHT
TZOFFSETFROM:-0500
TZOFFSETTO:-0400
TZNAME:EDT
DTSTART:20270314T070000
END:DAYLIGHT
BEGIN:STANDARD
TZOFFSETFROM:-0400
TZOFFSETTO:-0500
TZNAME:EST
DTSTART:20271107T060000
END:STANDARD
END:VTIMEZONE
BEGIN:VEVENT
DTSTART;TZID=America/New_York:20260611T100000
DTEND;TZID=America/New_York:20260611T160000
DTSTAMP:20260421T162856
CREATED:20260414T191800Z
LAST-MODIFIED:20260421T200313Z
UID:10001448-1781172000-1781193600@nighthawks.mccnh.edu
SUMMARY:Americana 250th Exhibition
DESCRIPTION:Celebrate United States’ 250th anniversary of the Revolutionary War and the Declaration of Independence on Thursday\, June 11 from 10 AM – 4 PM at Manchester Community College. \nThe Americana 250 Exhibition brings colonial history to life through the humanities\, arts\, and sciences\, highlighting the Revolutionary War\, colonial life\, and their lasting impact on modern America. \nEnjoy 18th-century games\, crafts\, music and dance\, historical presentations\, a Founding Documents knock-out tournament\, and a colonial clothing try-on photobooth. The event will also feature performances of My Dearest Friend\, a historical play about the lives and correspondence of John and Abigail Adams. \nThis free event is funded by the New Hampshire Humanities Collaborative and Manchester Community College’s Department of Social/Behavioral Sciences and Human Services\, and is open to the public. \n\nReserve your spot: https://www.eventbrite.com/e/americana-250th-exhibition-tickets-1986221676502?utm-campaign=social&utm-content=attendeeshare&utm-medium=discovery&utm-term=listing&utm-source=cp&aff=ebdsshcopyurl
URL:https://nighthawks.mccnh.edu/event/americana-250th-exhibition/
LOCATION:NH
CATEGORIES:General Calendar
ORGANIZER;CN="Kim Kulesza":MAILTO:kkulesza@ccsnh.edu
END:VEVENT
END:VCALENDAR