BEGIN:VCALENDAR
VERSION:2.0
PRODID:-//Nighthawk Lookout – For MCC Students, Staff, and Faculty - ECPv6.15.17.1//NONSGML v1.0//EN
CALSCALE:GREGORIAN
METHOD:PUBLISH
X-ORIGINAL-URL:https://nighthawks.mccnh.edu
X-WR-CALDESC:Events for Nighthawk Lookout – For MCC Students, Staff, and Faculty
REFRESH-INTERVAL;VALUE=DURATION:PT1H
X-Robots-Tag:noindex
X-PUBLISHED-TTL:PT1H
BEGIN:VTIMEZONE
TZID:America/New_York
BEGIN:DAYLIGHT
TZOFFSETFROM:-0500
TZOFFSETTO:-0400
TZNAME:EDT
DTSTART:20250309T070000
END:DAYLIGHT
BEGIN:STANDARD
TZOFFSETFROM:-0400
TZOFFSETTO:-0500
TZNAME:EST
DTSTART:20251102T060000
END:STANDARD
BEGIN:DAYLIGHT
TZOFFSETFROM:-0500
TZOFFSETTO:-0400
TZNAME:EDT
DTSTART:20260308T070000
END:DAYLIGHT
BEGIN:STANDARD
TZOFFSETFROM:-0400
TZOFFSETTO:-0500
TZNAME:EST
DTSTART:20261101T060000
END:STANDARD
BEGIN:DAYLIGHT
TZOFFSETFROM:-0500
TZOFFSETTO:-0400
TZNAME:EDT
DTSTART:20270314T070000
END:DAYLIGHT
BEGIN:STANDARD
TZOFFSETFROM:-0400
TZOFFSETTO:-0500
TZNAME:EST
DTSTART:20271107T060000
END:STANDARD
END:VTIMEZONE
BEGIN:VEVENT
DTSTART;TZID=America/New_York:20260422T160000
DTEND;TZID=America/New_York:20260422T170000
DTSTAMP:20260420T074704
CREATED:20250422T001825Z
LAST-MODIFIED:20260420T104938Z
UID:10001099-1776873600-1776877200@nighthawks.mccnh.edu
SUMMARY:LPN to RN Nursing Information Session – On Campus During Open House
DESCRIPTION:This information session is in-person on the MCC campus during the open house. \nInformation regarding pre-reqs\, the admissions process\, the entrance exam\, academic requirements (nursing and general education)\, and competitive ranking is covered in detail during the session. Participants will receive the necessary paperwork to apply for admission and will have the opportunity to ask questions. A follow up individual appointment may be scheduled if necessary. \n\nThere is no fee to attend and registration is not required.\nThe LPN to RN program is an advanced placement program for currently licensed LPNs only.\nMCC does not offer an LPN program.
URL:https://nighthawks.mccnh.edu/event/lpn-to-rn-nursing-information-session-on-campus-during-open-house-4/
LOCATION:Nursing Lab Room 321\, 1066 Front Street\, Manchester\, NH\, 03102\, United States
CATEGORIES:General Calendar
GEO:43.0190476;-71.4841072
X-APPLE-STRUCTURED-LOCATION;VALUE=URI;X-ADDRESS=Nursing Lab Room 321 1066 Front Street Manchester NH 03102 United States;X-APPLE-RADIUS=500;X-TITLE=1066 Front Street:geo:-71.4841072,43.0190476
END:VEVENT
BEGIN:VEVENT
DTSTART;TZID=America/New_York:20260422T170000
DTEND;TZID=America/New_York:20260422T180000
DTSTAMP:20260420T074704
CREATED:20250422T001825Z
LAST-MODIFIED:20260420T104939Z
UID:10001100-1776877200-1776880800@nighthawks.mccnh.edu
SUMMARY:RN Nursing Information Session – On Campus During Open House
DESCRIPTION:This information session is in-person on the MCC campus during the open house. \nInformation regarding pre-reqs\, the admissions process\, the entrance exam\, academic requirements (nursing and general education)\, and competitive ranking is covered in detail during the session. Participants will receive the necessary paperwork to apply for admission and will have the opportunity to ask questions. A follow up individual appointment may be scheduled if necessary. \n\nThere is no fee to attend and registration is not required.\nThe information session starts promptly at the posted time.\nPlease be a few minutes early as late arrivals will not be accommodated.\n\nStudents may complete the RN program on a part time basis\, however\, nursing and clinical components must be completed concurrently. Students graduate with an Associate degree of Science in Nursing and are eligible to take the RN state board exam. Students may continue on to a Bachelor of Science in Nursing at various four-year nursing programs.
URL:https://nighthawks.mccnh.edu/event/rn-nursing-information-session-on-campus-during-open-house/
LOCATION:Nursing Lab Room 321\, 1066 Front Street\, Manchester\, NH\, 03102\, United States
CATEGORIES:General Calendar
GEO:43.0190476;-71.4841072
X-APPLE-STRUCTURED-LOCATION;VALUE=URI;X-ADDRESS=Nursing Lab Room 321 1066 Front Street Manchester NH 03102 United States;X-APPLE-RADIUS=500;X-TITLE=1066 Front Street:geo:-71.4841072,43.0190476
END:VEVENT
BEGIN:VEVENT
DTSTART;TZID=America/New_York:20260508T121500
DTEND;TZID=America/New_York:20260508T131500
DTSTAMP:20260420T074704
CREATED:20260401T124809Z
LAST-MODIFIED:20260420T104943Z
UID:10001423-1778242500-1778246100@nighthawks.mccnh.edu
SUMMARY:RN Nursing Information Session – Zoom Only
DESCRIPTION:This information session is online over Zoom. \nInformation regarding pre-reqs\, the admissions process\, the entrance exam\, academic requirements (nursing and general education)\, and competitive ranking is covered in detail during the session. Participants will receive the necessary paperwork to apply for admission and will have the opportunity to ask questions. A follow up individual appointment may be scheduled if necessary. \n\nThere is no fee to attend and registration is not required.\nThe information session starts promptly at the posted time.\nPlease be a few minutes early as late arrivals will not be accommodated.\n\nStudents may complete the RN program on a part time basis\, however\, nursing and clinical components must be completed concurrently. Students graduate with an Associate degree of Science in Nursing and are eligible to take the RN state board exam. Students may continue on to a Bachelor of Science in Nursing at various four-year nursing programs. \n  \nRegister for info session: https://ccsnh.my.salesforce-sites.com/events#/esr?eid=a12Up000002brPBIAY
URL:https://nighthawks.mccnh.edu/event/rn-nursing-information-session-zoom-only/
LOCATION:Zoom
CATEGORIES:General Calendar
END:VEVENT
BEGIN:VEVENT
DTSTART;TZID=America/New_York:20260610T140000
DTEND;TZID=America/New_York:20260610T150000
DTSTAMP:20260420T074704
CREATED:20260401T124812Z
LAST-MODIFIED:20260420T104945Z
UID:10001424-1781100000-1781103600@nighthawks.mccnh.edu
SUMMARY:LPN to RN Nursing Information Session – Zoom Only
DESCRIPTION:This information session is online over Zoom. \nInformation regarding pre-reqs\, the admissions process\, the entrance exam\, academic requirements (nursing and general education)\, and competitive ranking is covered in detail during the session. Participants will receive the necessary paperwork to apply for admission and will have the opportunity to ask questions. A follow up individual appointment may be scheduled if necessary. \n\nThere is no fee to attend and registration is not required.\nThe LPN to RN program is an advanced placement program for currently licensed LPNs only.\nMCC does not offer an LPN program.\n\n  \nRegister for info session: https://ccsnh.my.salesforce-sites.com/events#/esr?eid=a12Up000002brfJIAQ
URL:https://nighthawks.mccnh.edu/event/lpn-to-rn-nursing-information-session-zoom-only/
CATEGORIES:General Calendar
END:VEVENT
BEGIN:VEVENT
DTSTART;TZID=America/New_York:20260610T150000
DTEND;TZID=America/New_York:20260610T160000
DTSTAMP:20260420T074704
CREATED:20260401T124813Z
LAST-MODIFIED:20260420T104945Z
UID:10001425-1781103600-1781107200@nighthawks.mccnh.edu
SUMMARY:RN Nursing Information Session – Zoom Only
DESCRIPTION:This information session is online over Zoom. \nInformation regarding pre-reqs\, the admissions process\, the entrance exam\, academic requirements (nursing and general education)\, and competitive ranking is covered in detail during the session. Participants will receive the necessary paperwork to apply for admission and will have the opportunity to ask questions. A follow up individual appointment may be scheduled if necessary. \n\nThere is no fee to attend and registration is not required.\nThe information session starts promptly at the posted time.\nPlease be a few minutes early as late arrivals will not be accommodated.\n\nStudents may complete the RN program on a part time basis\, however\, nursing and clinical components must be completed concurrently. Students graduate with an Associate degree of Science in Nursing and are eligible to take the RN state board exam. Students may continue on to a Bachelor of Science in Nursing at various four-year nursing programs. \nRegister for info session: https://ccsnh.my.salesforce-sites.com/events#/esr?eid=a12Up000002brSPIAY
URL:https://nighthawks.mccnh.edu/event/rn-nursing-information-session-zoom-only-2/
CATEGORIES:General Calendar
END:VEVENT
BEGIN:VEVENT
DTSTART;TZID=America/New_York:20260710T140000
DTEND;TZID=America/New_York:20260710T150000
DTSTAMP:20260420T074704
CREATED:20260401T124815Z
LAST-MODIFIED:20260420T104947Z
UID:10001426-1783692000-1783695600@nighthawks.mccnh.edu
SUMMARY:RN Nursing Information Session – Zoom Only
DESCRIPTION:This information session is online over Zoom. \nInformation regarding pre-reqs\, the admissions process\, the entrance exam\, academic requirements (nursing and general education)\, and competitive ranking is covered in detail during the session. Participants will receive the necessary paperwork to apply for admission and will have the opportunity to ask questions. A follow up individual appointment may be scheduled if necessary. \n\nThere is no fee to attend and registration is not required.\nThe information session starts promptly at the posted time.\nPlease be a few minutes early as late arrivals will not be accommodated.\n\nStudents may complete the RN program on a part time basis\, however\, nursing and clinical components must be completed concurrently. Students graduate with an Associate degree of Science in Nursing and are eligible to take the RN state board exam. Students may continue on to a Bachelor of Science in Nursing at various four-year nursing programs. \n  \nRegister for info session: https://ccsnh.my.salesforce-sites.com/events#/esr?eid=a12Up000002brVdIAI
URL:https://nighthawks.mccnh.edu/event/rn-nursing-information-session-zoom-only-3/
CATEGORIES:General Calendar
END:VEVENT
BEGIN:VEVENT
DTSTART;TZID=America/New_York:20260710T160000
DTEND;TZID=America/New_York:20260710T170000
DTSTAMP:20260420T074704
CREATED:20260401T124816Z
LAST-MODIFIED:20260420T104947Z
UID:10001427-1783699200-1783702800@nighthawks.mccnh.edu
SUMMARY:LPN to RN Nursing Information Session – Zoom Only
DESCRIPTION:This information session is online over Zoom. \nInformation regarding pre-reqs\, the admissions process\, the entrance exam\, academic requirements (nursing and general education)\, and competitive ranking is covered in detail during the session. Participants will receive the necessary paperwork to apply for admission and will have the opportunity to ask questions. A follow up individual appointment may be scheduled if necessary. \n\nThere is no fee to attend and registration is not required.\nThe LPN to RN program is an advanced placement program for currently licensed LPNs only.\nMCC does not offer an LPN program.\n\n  \nRegister for info session: https://ccsnh.my.salesforce-sites.com/events#/esr?eid=a12Up000002brk9IAA
URL:https://nighthawks.mccnh.edu/event/lpn-to-rn-nursing-information-session-zoom-only-2/
CATEGORIES:General Calendar
END:VEVENT
BEGIN:VEVENT
DTSTART;TZID=America/New_York:20260915T150000
DTEND;TZID=America/New_York:20260915T160000
DTSTAMP:20260420T074704
CREATED:20260401T124817Z
LAST-MODIFIED:20260420T104948Z
UID:10001428-1789484400-1789488000@nighthawks.mccnh.edu
SUMMARY:RN Nursing Information Session – Zoom Only
DESCRIPTION:This information session is online over Zoom. \nInformation regarding pre-reqs\, the admissions process\, the entrance exam\, academic requirements (nursing and general education)\, and competitive ranking is covered in detail during the session. Participants will receive the necessary paperwork to apply for admission and will have the opportunity to ask questions. A follow up individual appointment may be scheduled if necessary. \n\nThere is no fee to attend and registration is not required.\nThe information session starts promptly at the posted time.\nPlease be a few minutes early as late arrivals will not be accommodated.\n\nStudents may complete the RN program on a part time basis\, however\, nursing and clinical components must be completed concurrently. Students graduate with an Associate degree of Science in Nursing and are eligible to take the RN state board exam. Students may continue on to a Bachelor of Science in Nursing at various four-year nursing programs. \n  \nRegister for info session: https://ccsnh.my.salesforce-sites.com/events#/esr?eid=a12Up000002brYrIAI
URL:https://nighthawks.mccnh.edu/event/rn-nursing-information-session-zoom-only-4/
CATEGORIES:General Calendar
END:VEVENT
BEGIN:VEVENT
DTSTART;TZID=America/New_York:20261022T120000
DTEND;TZID=America/New_York:20261022T130000
DTSTAMP:20260420T074704
CREATED:20260401T124818Z
LAST-MODIFIED:20260420T104948Z
UID:10001429-1792670400-1792674000@nighthawks.mccnh.edu
SUMMARY:LPN to RN Nursing Information Session – Zoom Only
DESCRIPTION:This information session is online over Zoom. \nInformation regarding pre-reqs\, the admissions process\, the entrance exam\, academic requirements (nursing and general education)\, and competitive ranking is covered in detail during the session. Participants will receive the necessary paperwork to apply for admission and will have the opportunity to ask questions. A follow up individual appointment may be scheduled if necessary. \n\nThere is no fee to attend and registration is not required.\nThe LPN to RN program is an advanced placement program for currently licensed LPNs only.\nMCC does not offer an LPN program.\n\n  \nRegister for info session: https://ccsnh.my.salesforce-sites.com/events#/esr?eid=a12Up000002brllIAA
URL:https://nighthawks.mccnh.edu/event/lpn-to-rn-nursing-information-session-zoom-only-3/
CATEGORIES:General Calendar
END:VEVENT
BEGIN:VEVENT
DTSTART;TZID=America/New_York:20261022T160000
DTEND;TZID=America/New_York:20261022T170000
DTSTAMP:20260420T074704
CREATED:20260401T124818Z
LAST-MODIFIED:20260420T104948Z
UID:10001430-1792684800-1792688400@nighthawks.mccnh.edu
SUMMARY:RN Nursing Information Session – Zoom Only
DESCRIPTION:This information session is online over Zoom. \nInformation regarding pre-reqs\, the admissions process\, the entrance exam\, academic requirements (nursing and general education)\, and competitive ranking is covered in detail during the session. Participants will receive the necessary paperwork to apply for admission and will have the opportunity to ask questions. A follow up individual appointment may be scheduled if necessary. \n\nThere is no fee to attend and registration is not required.\nThe information session starts promptly at the posted time.\nPlease be a few minutes early as late arrivals will not be accommodated.\n\nStudents may complete the RN program on a part time basis\, however\, nursing and clinical components must be completed concurrently. Students graduate with an Associate degree of Science in Nursing and are eligible to take the RN state board exam. Students may continue on to a Bachelor of Science in Nursing at various four-year nursing programs. \n  \nRegister for info session: https://ccsnh.my.salesforce-sites.com/events#/esr?eid=a12Up000002braTIAQ
URL:https://nighthawks.mccnh.edu/event/rn-nursing-information-session-zoom-only-5/
CATEGORIES:General Calendar
END:VEVENT
BEGIN:VEVENT
DTSTART;TZID=America/New_York:20261116T121500
DTEND;TZID=America/New_York:20261116T131500
DTSTAMP:20260420T074704
CREATED:20260401T124820Z
LAST-MODIFIED:20260420T104949Z
UID:10001431-1794831300-1794834900@nighthawks.mccnh.edu
SUMMARY:RN Nursing Information Session – Zoom Only
DESCRIPTION:This information session is online over Zoom. \nInformation regarding pre-reqs\, the admissions process\, the entrance exam\, academic requirements (nursing and general education)\, and competitive ranking is covered in detail during the session. Participants will receive the necessary paperwork to apply for admission and will have the opportunity to ask questions. A follow up individual appointment may be scheduled if necessary. \n\nThere is no fee to attend and registration is not required.\nThe information session starts promptly at the posted time.\nPlease be a few minutes early as late arrivals will not be accommodated.\n\nStudents may complete the RN program on a part time basis\, however\, nursing and clinical components must be completed concurrently. Students graduate with an Associate degree of Science in Nursing and are eligible to take the RN state board exam. Students may continue on to a Bachelor of Science in Nursing at various four-year nursing programs. \n  \nRegister for info session: https://ccsnh.my.salesforce-sites.com/events#/esr?eid=a12Up000002brc5IAA
URL:https://nighthawks.mccnh.edu/event/rn-nursing-information-session-zoom-only-6/
CATEGORIES:General Calendar
END:VEVENT
END:VCALENDAR