BEGIN:VCALENDAR
VERSION:2.0
PRODID:-//Nighthawk Lookout – For MCC Students, Staff, and Faculty - ECPv6.15.20//NONSGML v1.0//EN
CALSCALE:GREGORIAN
METHOD:PUBLISH
X-WR-CALNAME:Nighthawk Lookout – For MCC Students, Staff, and Faculty
X-ORIGINAL-URL:https://nighthawks.mccnh.edu
X-WR-CALDESC:Events for Nighthawk Lookout – For MCC Students, Staff, and Faculty
REFRESH-INTERVAL;VALUE=DURATION:PT1H
X-Robots-Tag:noindex
X-PUBLISHED-TTL:PT1H
BEGIN:VTIMEZONE
TZID:America/New_York
BEGIN:DAYLIGHT
TZOFFSETFROM:-0500
TZOFFSETTO:-0400
TZNAME:EDT
DTSTART:20220313T070000
END:DAYLIGHT
BEGIN:STANDARD
TZOFFSETFROM:-0400
TZOFFSETTO:-0500
TZNAME:EST
DTSTART:20221106T060000
END:STANDARD
BEGIN:DAYLIGHT
TZOFFSETFROM:-0500
TZOFFSETTO:-0400
TZNAME:EDT
DTSTART:20230312T070000
END:DAYLIGHT
BEGIN:STANDARD
TZOFFSETFROM:-0400
TZOFFSETTO:-0500
TZNAME:EST
DTSTART:20231105T060000
END:STANDARD
BEGIN:DAYLIGHT
TZOFFSETFROM:-0500
TZOFFSETTO:-0400
TZNAME:EDT
DTSTART:20240310T070000
END:DAYLIGHT
BEGIN:STANDARD
TZOFFSETFROM:-0400
TZOFFSETTO:-0500
TZNAME:EST
DTSTART:20241103T060000
END:STANDARD
BEGIN:DAYLIGHT
TZOFFSETFROM:-0500
TZOFFSETTO:-0400
TZNAME:EDT
DTSTART:20250309T070000
END:DAYLIGHT
BEGIN:STANDARD
TZOFFSETFROM:-0400
TZOFFSETTO:-0500
TZNAME:EST
DTSTART:20251102T060000
END:STANDARD
END:VTIMEZONE
BEGIN:VEVENT
DTSTART;TZID=America/New_York:20240515T120000
DTEND;TZID=America/New_York:20240515T130000
DTSTAMP:20260423T071438
CREATED:20240426T165428Z
LAST-MODIFIED:20240515T225048Z
UID:10000802-1715774400-1715778000@nighthawks.mccnh.edu
SUMMARY:RN Nursing Information Session\, On Campus Only
DESCRIPTION:In an effort to provide you with the most current and comprehensive information about our programs\, we require prospective nursing students attend a Nursing Information Session.* \nThis Information Session is Live and In-Person on the MCC Campus. \nInformation regarding pre-reqs\, the admissions process\, the entrance exam\, academic requirements (nursing and general education)\, and competitive ranking is covered in detail during the session. Participants will receive the necessary paperwork to apply for admission and will have the opportunity to ask questions. A follow up individual appointment may be scheduled if necessary. \n\nThere is no fee to attend and registration is not required.\nThe information session starts promptly at the posted time.\nPlease be a few minutes early as late arrivals will not be accommodated.\n\nStudents may complete the RN program on a part time basis\, however\, nursing and clinical components must be completed concurrently. Students graduate with an Associate degree of Science in Nursing and are eligible to take the RN state board exam. Students may continue on to a Bachelor of Science in Nursing at various four-year nursing programs. \n—– \n*Please check your Information Session location carefully before attending!  \n\nSome sessions are in-person on campus only and held live at MCC.\nSome sessions are virtual only via Zoom (link provided in the listing).\nSome sessions are offered as a combination\, with both live and virtual/Zoom attendance options for the same event.
URL:https://nighthawks.mccnh.edu/event/rn-nursing-information-session-on-campus-only-2/
LOCATION:Medical Assisting Lab\, Room 327\, 1066 Front Street\, Manchester\, NH\, 03102\, United States
CATEGORIES:General Calendar
ORGANIZER;CN="Jacquie Poirier":MAILTO:jpoirier@ccsnh.edu
GEO:43.0190476;-71.4841072
X-APPLE-STRUCTURED-LOCATION;VALUE=URI;X-ADDRESS=Medical Assisting Lab Room 327 1066 Front Street Manchester NH 03102 United States;X-APPLE-RADIUS=500;X-TITLE=1066 Front Street:geo:-71.4841072,43.0190476
END:VEVENT
BEGIN:VEVENT
DTSTART;TZID=America/New_York:20230908T120000
DTEND;TZID=America/New_York:20230908T130000
DTSTAMP:20260423T071438
CREATED:20231103T181118Z
LAST-MODIFIED:20231103T181118Z
UID:10000135-1694174400-1694178000@nighthawks.mccnh.edu
SUMMARY:RN Nursing Information Session
DESCRIPTION:In an effort to provide you with the most current and comprehensive information about our programs\, we require prospective nursing students attend a Nursing Information Session. Information regarding pre-reqs\, the admissions process\, the entrance exam\, academic requirements (nursing and general education)\, and competitive ranking is covered in detail during the session. Participants will receive the necessary paperwork to apply for admission and will have the opportunity to ask questions. A follow up individual appointment may be scheduled if necessary. \nThere is no fee to attend and registration is not required. The information session starts promptly at the posted time. Please be a few minutes early as late arrivals will not be accommodated. \nStudents may complete the RN program on a part time basis\, however\, nursing and clinical components must be completed concurrently. Students graduate with an Associate degree of Science in Nursing and are eligible to take the RN state board exam. Students may continue on to a Bachelor of Science in Nursing at various four-year nursing programs.
URL:https://nighthawks.mccnh.edu/event/rn-nursing-information-session-5/
LOCATION:Medical Assisting Lab\, Room 327\, 1066 Front Street\, Manchester\, NH\, 03102\, United States
CATEGORIES:General Calendar
GEO:43.0190476;-71.4841072
X-APPLE-STRUCTURED-LOCATION;VALUE=URI;X-ADDRESS=Medical Assisting Lab Room 327 1066 Front Street Manchester NH 03102 United States;X-APPLE-RADIUS=500;X-TITLE=1066 Front Street:geo:-71.4841072,43.0190476
END:VEVENT
END:VCALENDAR